BEGIN:VCALENDAR
VERSION:2.0
PRODID:-//Le Sou - ECPv6.8.3//NONSGML v1.0//EN
CALSCALE:GREGORIAN
METHOD:PUBLISH
X-WR-CALNAME:Le Sou
X-ORIGINAL-URL:https://www.le-sou.org
X-WR-CALDESC:Évènements pour Le Sou
REFRESH-INTERVAL;VALUE=DURATION:PT1H
X-Robots-Tag:noindex
X-PUBLISHED-TTL:PT1H
BEGIN:VTIMEZONE
TZID:Europe/Paris
BEGIN:DAYLIGHT
TZOFFSETFROM:+0100
TZOFFSETTO:+0200
TZNAME:CEST
DTSTART:20240331T010000
END:DAYLIGHT
BEGIN:STANDARD
TZOFFSETFROM:+0200
TZOFFSETTO:+0100
TZNAME:CET
DTSTART:20241027T010000
END:STANDARD
END:VTIMEZONE
BEGIN:VEVENT
DTSTART;TZID=Europe/Paris:20240406T180000
DTEND;TZID=Europe/Paris:20240406T213000
DTSTAMP:20260423T074647
CREATED:20240303T122513Z
LAST-MODIFIED:20240401T153151Z
UID:4944-1712426400-1712439000@www.le-sou.org
SUMMARY:annulé
DESCRIPTION:« Votre voyante extra-glucido-lipidique qui lit dans vos cartes de crédit »\n\nMme Monica\, votre voyante extra-glucido-lipidique avoir préparé pour toi les  » contes de la june ».\nRetour sur expériences et gros pâtés au pays des junistes adorés\, éternels abonnés de monnaie libérée\, délivrée des dictats et des daikiris périmés.\nSpectacle\, lectures et cercle partage autour du feu de la kasba avec toute ta smala.\nToi être prêt pour voyage astral au pays de la mitraille ?\nEt boom et clic et clac.\nPirouettes et poudre de fée… Moi emmener toi dans pays du monde libéré »\n\nCovoiturage : http://www.movewiz.fr/participation?PMW=84fz629YRI1Bg11236\nInformation\, inscription pour obtenir l’adresse : par SMS 06 03 08 22 23
URL:https://www.le-sou.org/evenement/spectacle-les-contes-de-la-june/
LOCATION:Chez Roseline à Thévalles\, 52 chemin de la Lande\, Laval\, 53000
CATEGORIES:kezako ?),Rencontre entre membres actifs,spectacle
END:VEVENT
BEGIN:VEVENT
DTSTART;TZID=Europe/Paris:20240407T120000
DTEND;TZID=Europe/Paris:20240407T180000
DTSTAMP:20260423T074647
CREATED:20240327T174221Z
LAST-MODIFIED:20240327T175419Z
UID:5002-1712491200-1712512800@www.le-sou.org
SUMMARY:Ğmarché + spectacle\, Louvigny
DESCRIPTION:C’est toujours le forum qui fait foi en priorité : https://forum.monnaie-libre.fr/t/07-04-2024-mme-monica-fait-son-show-en-normandie-louvigny-14/29548 \nVenez avec une personne de votre entourage pour lui faire découvrir la June \n12h : repas partagé \n14h : Spectacle: Les Contes de la June \n15h30 : ĞMarché \nRangement collectif et joyeux
URL:https://www.le-sou.org/evenement/gmarche-spectacle-louvigny/
LOCATION:Louvigny 14111\, Chemin du 8ème RECCE\, Louvigny\, 14111
CATEGORIES:Ğmarché,Rencontre entre membres actifs,spectacle
END:VEVENT
END:VCALENDAR