BEGIN:VCALENDAR
VERSION:2.0
PRODID:-//Le Sou - ECPv6.8.3//NONSGML v1.0//EN
CALSCALE:GREGORIAN
METHOD:PUBLISH
X-WR-CALNAME:Le Sou
X-ORIGINAL-URL:https://www.le-sou.org
X-WR-CALDESC:Évènements pour Le Sou
REFRESH-INTERVAL;VALUE=DURATION:PT1H
X-Robots-Tag:noindex
X-PUBLISHED-TTL:PT1H
BEGIN:VTIMEZONE
TZID:Europe/Paris
BEGIN:DAYLIGHT
TZOFFSETFROM:+0100
TZOFFSETTO:+0200
TZNAME:CEST
DTSTART:20250330T010000
END:DAYLIGHT
BEGIN:STANDARD
TZOFFSETFROM:+0200
TZOFFSETTO:+0100
TZNAME:CET
DTSTART:20251026T010000
END:STANDARD
END:VTIMEZONE
BEGIN:VEVENT
DTSTART;TZID=Europe/Paris:20250309T110000
DTEND;TZID=Europe/Paris:20250309T180000
DTSTAMP:20260422T124807
CREATED:20250129T214312Z
LAST-MODIFIED:20250227T202339Z
UID:5063-1741518000-1741543200@www.le-sou.org
SUMMARY:Festi-Ğ1 du 8ème anniversaire\, en forêt d'Andaine
DESCRIPTION:Covoiturage facilité—http://www.movewiz.fr/participation?PMW=35QMgCjIqQPdX11840 — ne pas suivre le GPS\, demander le plan à ttdd@free.fr ou voir la carte\n \nVoir aussi les détails ici https://forum.monnaie-libre.fr/t/61700-domfront-en-poiraie-festijune-9-mars-2025/31278 \nFesti-June pour le 8ème anniversaire du lancement de la première monnaie libre du monde\, la june (Ğ1).\nEvénement mayenn-ornais à la ferme-école du Fouteau en forêt de Domfront (61) à quelques encâblures de la Mayenne.\nProgramme provisoire… contributif bien sûr\, vos propositions sont bienvenues\, vos souhaits aussi. \n\nĞmarché — apportez au moins un objet à vendre\, que vous ayez déjà des Ğ1 ou pas\nscène ouverte\nateliers autour de la monnaie libre (les principes\, les valeurs\, le potentiel\, la technique…)
URL:https://www.le-sou.org/evenement/festijune-8eme-anniversaire-foret/
LOCATION:Le Fouteau de la Renaudière\, France
CATEGORIES:Atelier,Festivals,Ğinfo (monnaie libre,Ğmarché,Rencontre entre membres actifs,spectacle
ATTACH;FMTTYPE=image/jpeg:https://www.le-sou.org/wp-content/uploads/2022/03/Ğ1-brise-chaîne.jpg
END:VEVENT
END:VCALENDAR